BEGIN:VCALENDAR
VERSION:2.0
PRODID:-//pretix//Oktoberfest_UK_Ticket_System//
BEGIN:VEVENT
UID:pretix-oktoberfest-uk-7nnzp-C-0@oktoberfest-tickets.co.uk
DTSTART:20260925T170000Z
DTEND:20260926T230000Z
DESCRIPTION:Tickets: https://oktoberfest-tickets.co.uk/oktoberfest-uk/7nnzp
 -C/\nOrganizer: Oktoberfest UK
DTSTAMP:20260420T002708Z
LOCATION:Jesus Green access Victoria Avenue
SUMMARY:Cambridge Oktoberfest 2026
END:VEVENT
END:VCALENDAR
